Workbook

Sheet Сделка
A2: РАСЧЕТ СДЕЛЬНОЙ ПРЕМИИ ПРОДАВЦОВ
A3: июль 2019г.
A5: Склад | B5: Расчет сдельной премии по продавцам | D5: КП1 (личный план) | E5: КП2 (план по сопутке) | F5: КП3 (план магазина) | G5: КП4 (средний чек) | H5: ИТОГО РОЗНИЦА | I5: Колеровка ОПТ | J5: ИТОГО
A6: (СКЛАД Журналистов) | B6: Козырев Константин | C6: Продавец 1 | D6: =$B$40*IFERROR(VLOOKUP($C6,$C$61:$G$71,5,FALSE),0)*IFERROR(VLOOKUP($C6,$C$45:$D$55,2,FALSE),0) -> 6499.0814 | E6: =$C$40*IFERROR(VLOOKUP($C6,$C$45:$D$55,2,FALSE),0)*IFERROR(VLOOKUP($C6,$C$75:$G$84,5,FALSE),0) -> 0 | F6: =$D$40*IFERROR(VLOOKUP(A6,$B$89:$G$91,6,FALSE),0)*IFERROR(VLOOKUP(C6,$C$45:$D$55,2,FALSE),0) -> 1706.0089 | G6: =$E$40*IFERROR(VLOOKUP($C6,$A$149:$G$154,7,FALSE),0)*IFERROR(VLOOKUP($C6,$C$45:$D$55,2,FALSE),0) -> 1462.2933 | H6: =SUM(D6:G6) -> 9667.3836 | I6: =VLOOKUP($A6,$B$22:$C$24,2,FALSE)/VLOOKUP($A6,$B$22:$D$24,3,FALSE)*0.5% -> 4559.8207 | J6: =SUM(H6:I6) -> 14227.204
A7: Склад (ОСТРОВСКОГО) | C7: Продавец 9 | D7: =$B$40*IFERROR(VLOOKUP($C7,$C$61:$G$71,5,FALSE),0)*IFERROR(VLOOKUP($C7,$C$45:$D$55,2,FALSE),0) -> 0 | E7: =$C$40*IFERROR(VLOOKUP($C7,$C$45:$D$55,2,FALSE),0)*IFERROR(VLOOKUP($C7,$C$75:$G$84,5,FALSE),0) -> 0 | F7: =$D$40*IFERROR(VLOOKUP(A7,$B$89:$G$91,6,FALSE),0)*IFERROR(VLOOKUP(C7,$C$45:$D$55,2,FALSE),0) -> 0 | G7: =$E$40*IFERROR(VLOOKUP($C7,$A$149:$G$154,7,FALSE),0)*IFERROR(VLOOKUP($C7,$C$45:$D$55,2,FALSE),0) -> 0 | H7: =SUM(D7:G7) -> 0 | J7: =SUM(H7:I7) -> 0
A8: (СКЛАД Журналистов) | B8: Буранов Тимур | C8: Продавец 6 | D8: =$B$40*IFERROR(VLOOKUP($C8,$C$61:$G$71,5,FALSE),0)*IFERROR(VLOOKUP($C8,$C$45:$D$55,2,FALSE),0) -> 10853.006 | E8: =$C$40*IFERROR(VLOOKUP($C8,$C$45:$D$55,2,FALSE),0)*IFERROR(VLOOKUP($C8,$C$75:$G$84,5,FALSE),0) -> 3376.4907 | F8: =$D$40*IFERROR(VLOOKUP(A8,$B$89:$G$91,6,FALSE),0)*IFERROR(VLOOKUP(C8,$C$45:$D$55,2,FALSE),0) -> 2532.368 | G8: =$E$40*IFERROR(VLOOKUP($C8,$A$149:$G$154,7,FALSE),0)*IFERROR(VLOOKUP($C8,$C$45:$D$55,2,FALSE),0) -> 2532.368 | H8: =SUM(D8:G8) -> 19294.232 | I8: =VLOOKUP($A8,$B$22:$C$24,2,FALSE)/VLOOKUP($A8,$B$22:$D$24,3,FALSE)*0.5% -> 4559.8207 | J8: =SUM(H8:I8) -> 23854.053
A9: Склад (Сибгата Хакима) | B9: Мавлюдов Айзат | C9: ПродавецИнтернетМагазин | D9: =$B$40*IFERROR(VLOOKUP($C9,$C$61:$G$71,5,FALSE),0)*IFERROR(VLOOKUP($C9,$C$45:$D$55,2,FALSE),0) -> 152.8375 | E9: =$C$40*IFERROR(VLOOKUP($C9,$C$45:$D$55,2,FALSE),0)*IFERROR(VLOOKUP($C9,$C$75:$G$84,5,FALSE),0) -> 0 | F9: =$D$40*IFERROR(VLOOKUP(A9,$B$89:$G$91,6,FALSE),0)*IFERROR(VLOOKUP(C9,$C$45:$D$55,2,FALSE),0) -> 45.85125 | G9: =$E$40*IFERROR(VLOOKUP($C9,$A$149:$G$154,7,FALSE),0)*IFERROR(VLOOKUP($C9,$C$45:$D$55,2,FALSE),0) -> 45.85125 | H9: =SUM(D9:G9) -> 244.54 | J9: =SUM(H9:I9) -> 244.54
A10: (СКЛАД Журналистов) | B10: Хафизов Тимур | C10: Продавец 5 | D10: =$B$40*IFERROR(VLOOKUP($C10,$C$61:$G$71,5,FALSE),0)*IFERROR(VLOOKUP($C10,$C$45:$D$55,2,FALSE),0) -> 0 | E10: =$C$40*IFERROR(VLOOKUP($C10,$C$45:$D$55,2,FALSE),0)*IFERROR(VLOOKUP($C10,$C$75:$G$84,5,FALSE),0) -> 0 | F10: =$D$40*IFERROR(VLOOKUP(A10,$B$89:$G$91,6,FALSE),0)*IFERROR(VLOOKUP(C10,$C$45:$D$55,2,FALSE),0) -> 153.66605 | G10: =$E$40*IFERROR(VLOOKUP($C10,$A$149:$G$154,7,FALSE),0)*IFERROR(VLOOKUP($C10,$C$45:$D$55,2,FALSE),0) -> 153.66605 | H10: =SUM(D10:G10) -> 307.33209 | I10: =VLOOKUP($A10,$B$22:$C$24,2,FALSE)/VLOOKUP($A10,$B$22:$D$24,3,FALSE)*0.5% -> 4559.8207 | J10: =SUM(H10:I10) -> 4867.1528
A11: Склад (Сибгата Хакима) | B11: Бренделев Степан | C11: Продавец 3 | D11: =$B$40*IFERROR(VLOOKUP($C11,$C$61:$G$71,5,FALSE),0)*IFERROR(VLOOKUP($C11,$C$45:$D$55,2,FALSE),0) -> 11202.369 | E11: =$C$40*IFERROR(VLOOKUP($C11,$C$45:$D$55,2,FALSE),0)*IFERROR(VLOOKUP($C11,$C$75:$G$84,5,FALSE),0) -> 0 | F11: =$D$40*IFERROR(VLOOKUP(A11,$B$89:$G$91,6,FALSE),0)*IFERROR(VLOOKUP(C11,$C$45:$D$55,2,FALSE),0) -> 3734.123 | G11: =$E$40*IFERROR(VLOOKUP($C11,$A$149:$G$154,7,FALSE),0)*IFERROR(VLOOKUP($C11,$C$45:$D$55,2,FALSE),0) -> 3360.7107 | H11: =SUM(D11:G11) -> 18297.203 | I11: =VLOOKUP($A11,$B$22:$C$24,2,FALSE)/VLOOKUP($A11,$B$22:$D$24,3,FALSE)*0.5% -> 1457.2519 | J11: =SUM(H11:I11) -> 19754.454 | K11: кп3 и кп4 верные
A12: Склад (Сибгата Хакима) | C12: Офис Менеджер 1 | D12: =$B$40*IFERROR(VLOOKUP($C12,$C$61:$G$71,5,FALSE),0)*IFERROR(VLOOKUP($C12,$C$45:$D$55,2,FALSE),0) -> 0 | E12: =$C$40*IFERROR(VLOOKUP($C12,$C$45:$D$55,2,FALSE),0)*IFERROR(VLOOKUP($C12,$C$75:$G$84,5,FALSE),0) -> 0 | F12: =$D$40*IFERROR(VLOOKUP(A12,$B$89:$G$91,6,FALSE),0)*IFERROR(VLOOKUP(C12,$C$45:$D$55,2,FALSE),0) -> 0 | G12: =$E$40*IFERROR(VLOOKUP($C12,$A$149:$G$154,7,FALSE),0)*IFERROR(VLOOKUP($C12,$C$45:$D$55,2,FALSE),0) -> 0 | H12: =SUM(D12:G12) -> 0 | J12: =SUM(H12:I12) -> 0
A13: Склад (Сибгата Хакима) | B13: Ахметов Тимур | C13: Продавец 7 | D13: =$B$40*IFERROR(VLOOKUP($C13,$C$61:$G$71,5,FALSE),0)*IFERROR(VLOOKUP($C13,$C$45:$D$55,2,FALSE),0) -> 7775.4251 | E13: =$C$40*IFERROR(VLOOKUP($C13,$C$45:$D$55,2,FALSE),0)*IFERROR(VLOOKUP($C13,$C$75:$G$84,5,FALSE),0) -> 0 | F13: =$D$40*IFERROR(VLOOKUP(A13,$B$89:$G$91,6,FALSE),0)*IFERROR(VLOOKUP(C13,$C$45:$D$55,2,FALSE),0) -> 2591.8084 | G13: =$E$40*IFERROR(VLOOKUP($C13,$A$149:$G$154,7,FALSE),0)*IFERROR(VLOOKUP($C13,$C$45:$D$55,2,FALSE),0) -> 2073.4467 | H13: =SUM(D13:G13) -> 12440.68 | I13: =VLOOKUP($A13,$B$22:$C$24,2,FALSE)/VLOOKUP($A13,$B$22:$D$24,3,FALSE)*0.5% -> 1457.2519 | J13: =SUM(H13:I13) -> 13897.932
A14: Склад (Сибгата Хакима) | C14: Менеджер | D14: =$B$40*IFERROR(VLOOKUP($C14,$C$61:$G$71,5,FALSE),0)*IFERROR(VLOOKUP($C14,$C$45:$D$55,2,FALSE),0) -> 0 | E14: =$C$40*IFERROR(VLOOKUP($C14,$C$45:$D$55,2,FALSE),0)*IFERROR(VLOOKUP($C14,$C$75:$G$84,5,FALSE),0) -> 0 | F14: =$D$40*IFERROR(VLOOKUP(A14,$B$89:$G$91,6,FALSE),0)*IFERROR(VLOOKUP(C14,$C$45:$D$55,2,FALSE),0) -> 0 | G14: =$E$40*IFERROR(VLOOKUP($C14,$A$149:$G$154,7,FALSE),0)*IFERROR(VLOOKUP($C14,$C$45:$D$55,2,FALSE),0) -> 0 | H14: =SUM(D14:G14) -> 0 | J14: =SUM(H14:I14) -> 0
H15: =SUM(H6:H14) -> 60251.371 | I15: =SUM(I6:I14) -> 16593.966 | J15: =SUM(J6:J11) -> 62947.405
B19: ОПТ:
B21: Колеровка ОПТовых покупателей | C21: сумма | D21: Кол-во продавцов, чел.
B22: (СКЛАД Журналистов) | C22: =VLOOKUP(B22,'1С Колеровка'!$A$3:$B$103,2,FALSE) -> 2735892.4 | D22: 3
B23: Склад (ОСТРОВСКОГО) | C23: =VLOOKUP(B23,'1С Колеровка'!$A$3:$B$103,2,FALSE) -> 105823.45 | D23: 1
B24: Склад (Сибгата Хакима) | C24: =VLOOKUP(B24,'1С Колеровка'!$A$3:$B$103,2,FALSE) -> 582900.75 | D24: 2
C25: =SUM(C22:C24) -> 3424616.6
B27: Распредение колеровки на менеджеров | D27: 0.005
B28: Хафизов Тимур | C28: =C22/2 -> 1367946.2 | D28: =C28*$D$27 -> 6839.7311
B29: Козырев Константин | C29: =C24/2 -> 291450.38 | D29: =C29*$D$27 -> 1457.2519
B30: Буранов Тимур | C30: =C22/2 -> 1367946.2 | D30: =C30*$D$27 -> 6839.7311
B31: Бренделев Степан | C31: =C24/2 -> 291450.38 | D31: =C31*$D$27 -> 1457.2519
B32: Мавлюдов Айзат | C32: =C23 -> 105823.45 | D32: =C32*$D$27 -> 529.11725
C33: =SUM(C28:C32) -> 3424616.6 | D33: =SUM(D28:D32) -> 17123.083
B37: РОЗНИЦА:
B39: Вес ключевого показателя в премии сотрудника | F39: КП
B40: 0.5 | C40: 0.2 | D40: 0.15 | E40: 0.15 | F40: 0 | G40: 0.7 | H40: 0.8 | I40: 0.9 | J40: 1
B41: Выполнение личного плана продаж | C41: Выполнение личного плана продаж по сопутствующим товарам | D41: Выполнение плана магазина | E41: Средний чек | F41: Выполнение < | G41: Выполнение < | H41: Выполнение < | I41: Выполнение < | J41: Выполнение >
F42: 0.5 | G42: 0.7 | H42: 0.8 | I42: 0.9 | J42: 0.9
B44: Эталонная Премия | D44: ЭП
C45: Продавец 9 | D45: =IFERROR(VLOOKUP(C45,'1С Продажи-Сделка'!$A$5:$D$136,4,0),0) -> 0
B46: Козырев Константин | C46: Продавец 1 | D46: =IFERROR(VLOOKUP(C46,'1С Продажи-Сделка'!$A$5:$D$136,4,0),0) -> 16247.704
B47: Буранов Тимур | C47: Продавец 6 | D47: =IFERROR(VLOOKUP(C47,'1С Продажи-Сделка'!$A$5:$D$136,4,0),0) -> 24117.79
B48: Бренделев Степан | C48: Продавец 3 | D48: =IFERROR(VLOOKUP(C48,'1С Продажи-Сделка'!$A$5:$D$136,4,0),0) -> 24894.153
B49: Мавлюдов Айзат | C49: ПродавецИнтернетМагазин | D49: =IFERROR(VLOOKUP(C49,'1С Продажи-Сделка'!$A$5:$D$136,4,0),0) -> 305.675
C50: Офис Менеджер 1 | D50: =IFERROR(VLOOKUP(C50,'1С Продажи-Сделка'!$A$5:$D$136,4,0),0) -> 0
C51: Директор1 | D51: =IFERROR(VLOOKUP(C51,'1С Продажи-Сделка'!$A$5:$D$136,4,0),0) -> 0
B52: Ахметов Тимур | C52: Продавец 7 | D52: =IFERROR(VLOOKUP(C52,'1С Продажи-Сделка'!$A$5:$D$136,4,0),0) -> 17278.722
...

Sheet 1С Продажи-Сделка
A1: Расчет сделки за июль 2019 г.
A3: Ответственный | B3: Итого | C3: Бонус
A4: Номенклатура | B4: Сумма
A5: Продавец 1 | B5: 625771.85 | C5: =IFERROR(VLOOKUP(A5,'Бонусы-Группы'!$B$3:$C$16,2,FALSE),0) -> 0 | D5: =SUM(D6:D27) -> 16247.704
A6: Пирилакс | B6: 1187.5 | C6: =IFERROR(VLOOKUP(A6,'Бонусы-Группы'!$B$3:$C$16,2,FALSE),0) -> 0.02 | D6: =B6*C6 -> 23.75
A7: Ручные инструменты | B7: 13004.57 | C7: =IFERROR(VLOOKUP(A7,'Бонусы-Группы'!$B$3:$C$16,2,FALSE),0) -> 0.03 | D7: =B7*C7 -> 390.1371
A8: Текс | B8: 298 | C8: =IFERROR(VLOOKUP(A8,'Бонусы-Группы'!$B$3:$C$16,2,FALSE),0) -> 0.01 | D8: =B8*C8 -> 2.98
A9: Универсал серия | B9: 298 | C9: =IFERROR(VLOOKUP(A9,'Бонусы-Группы'!$B$3:$C$16,2,FALSE),0) -> 0 | D9: =B9*C9 -> 0
A10: Тиккурила Коутингс | B10: 55324.25 | C10: =IFERROR(VLOOKUP(A10,'Бонусы-Группы'!$B$3:$C$16,2,FALSE),0) -> 0.04 | D10: =B10*C10 -> 2212.97
A11: Дерево | B11: 42641.25 | C11: =IFERROR(VLOOKUP(A11,'Бонусы-Группы'!$B$3:$C$16,2,FALSE),0) -> 0 | D11: =B11*C11 -> 0
A12: Антисептики | B12: 40441.25 | C12: =IFERROR(VLOOKUP(A12,'Бонусы-Группы'!$B$3:$C$16,2,FALSE),0) -> 0 | D12: =B12*C12 -> 0
A13: Шпаклевки | B13: 2200 | C13: =IFERROR(VLOOKUP(A13,'Бонусы-Группы'!$B$3:$C$16,2,FALSE),0) -> 0 | D13: =B13*C13 -> 0
A14: Металл | B14: 11571 | C14: =IFERROR(VLOOKUP(A14,'Бонусы-Группы'!$B$3:$C$16,2,FALSE),0) -> 0 | D14: =B14*C14 -> 0
A15: Краска | B15: 9868 | C15: =IFERROR(VLOOKUP(A15,'Бонусы-Группы'!$B$3:$C$16,2,FALSE),0) -> 0 | D15: =B15*C15 -> 0
A16: Отвердители | B16: 1703 | C16: =IFERROR(VLOOKUP(A16,'Бонусы-Группы'!$B$3:$C$16,2,FALSE),0) -> 0 | D16: =B16*C16 -> 0
A17: Растворители | B17: 1112 | C17: =IFERROR(VLOOKUP(A17,'Бонусы-Группы'!$B$3:$C$16,2,FALSE),0) -> 0 | D17: =B17*C17 -> 0
... A27: Харрис | B27: 964 | C27: =IFERROR(VLOOKUP(A27,'Бонусы-Группы'!$B$3:$C$16,2,FALSE),0) -> 0.05 | D27: =B27*C27 -> 48.2
A28: Продавец 3 | B28: 976643.25 | C28: =IFERROR(VLOOKUP(A28,'Бонусы-Группы'!$B$3:$C$16,2,FALSE),0) -> 0 | D28: =SUM(D29:D49) -> 24894.153
A29: Анза | B29: 362.7 | C29: =IFERROR(VLOOKUP(A29,'Бонусы-Группы'!$B$3:$C$16,2,FALSE),0) -> 0.04 | D29: =B29*C29 -> 14.508
A30: Пигмент | B30: 2800.8 | C30: =IFERROR(VLOOKUP(A30,'Бонусы-Группы'!$B$3:$C$16,2,FALSE),0) -> 0.02 | D30: =B30*C30 -> 56.016
A31: Ручные инструменты | B31: 10947.88 | C31: =IFERROR(VLOOKUP(A31,'Бонусы-Группы'!$B$3:$C$16,2,FALSE),0) -> 0.03 | D31: =B31*C31 -> 328.4364
A32: Тиккурила Коутингс | B32: 57865.51 | C32: =IFERROR(VLOOKUP(A32,'Бонусы-Группы'!$B$3:$C$16,2,FALSE),0) -> 0.04 | D32: =B32*C32 -> 2314.6204
A33: Дерево | B33: 57865.51 | C33: =IFERROR(VLOOKUP(A33,'Бонусы-Группы'!$B$3:$C$16,2,FALSE),0) -> 0 | D33: =B33*C33 -> 0
A34: Антисептики | B34: 31965.83 | C34: =IFERROR(VLOOKUP(A34,'Бонусы-Группы'!$B$3:$C$16,2,FALSE),0) -> 0 | D34: =B34*C34 -> 0
A35: Краски | B35: 25459.68 | C35: =IFERROR(VLOOKUP(A35,'Бонусы-Группы'!$B$3:$C$16,2,FALSE),0) -> 0 | D35: =B35*C35 -> 0
A36: Шпаклевки | B36: 440 | C36: =IFERROR(VLOOKUP(A36,'Бонусы-Группы'!$B$3:$C$16,2,FALSE),0) -> 0 | D36: =B36*C36 -> 0
A37: Тиккурила Пейнтс | B37: 798489.74 | C37: =IFERROR(VLOOKUP(A37,'Бонусы-Группы'!$B$3:$C$16,2,FALSE),0) -> 0.025 | D37: =B37*C37 -> 19962.244
A38: Антисептики | B38: 395777.05 | C38: =IFERROR(VLOOKUP(A38,'Бонусы-Группы'!$B$3:$C$16,2,FALSE),0) -> 0 | D38: =B38*C38 -> 0
A39: Грунтовки | B39: 23856.27 | C39: =IFERROR(VLOOKUP(A39,'Бонусы-Группы'!$B$3:$C$16,2,FALSE),0) -> 0 | D39: =B39*C39 -> 0
A40: Краски | B40: 289985.72 | C40: =IFERROR(VLOOKUP(A40,'Бонусы-Группы'!$B$3:$C$16,2,FALSE),0) -> 0 | D40: =B40*C40 -> 0
... A49: Цвета НОВЫЕ | B49: 1276.2 | C49: =IFERROR(VLOOKUP(A49,'Бонусы-Группы'!$B$3:$C$16,2,FALSE),0) -> 0.02 | D49: =B49*C49 -> 25.524
A50: Продавец 5 | B50: 58568.38 | C50: =IFERROR(VLOOKUP(A50,'Бонусы-Группы'!$B$3:$C$16,2,FALSE),0) -> 0 | D50: =SUM(D51:D57) -> 1463.4861
A51: Ручные инструменты | B51: 1485 | C51: =IFERROR(VLOOKUP(A51,'Бонусы-Группы'!$B$3:$C$16,2,FALSE),0) -> 0.03 | D51: =B51*C51 -> 44.55
A52: Тиккурила Пейнтс | B52: 55453.71 | C52: =IFERROR(VLOOKUP(A52,'Бонусы-Группы'!$B$3:$C$16,2,FALSE),0) -> 0.025 | D52: =B52*C52 -> 1386.3428
A53: Антисептики | B53: 33201.81 | C53: =IFERROR(VLOOKUP(A53,'Бонусы-Группы'!$B$3:$C$16,2,FALSE),0) -> 0 | D53: =B53*C53 -> 0
A54: Краски | B54: 20223.9 | C54: =IFERROR(VLOOKUP(A54,'Бонусы-Группы'!$B$3:$C$16,2,FALSE),0) -> 0 | D54: =B54*C54 -> 0
A55: Лаки | B55: 2028 | C55: =IFERROR(VLOOKUP(A55,'Бонусы-Группы'!$B$3:$C$16,2,FALSE),0) -> 0 | D55: =B55*C55 -> 0
A56: Финнколор | B56: 1629.67 | C56: =IFERROR(VLOOKUP(A56,'Бонусы-Группы'!$B$3:$C$16,2,FALSE),0) -> 0.02 | D56: =B56*C56 -> 32.5934
A57: Краска | B57: 1629.67 | C57: =IFERROR(VLOOKUP(A57,'Бонусы-Группы'!$B$3:$C$16,2,FALSE),0) -> 0 | D57: =B57*C57 -> 0
A58: Продавец 6 | B58: 897447.86 | C58: =IFERROR(VLOOKUP(A58,'Бонусы-Группы'!$B$3:$C$16,2,FALSE),0) -> 0 | D58: =SUM(D59:D87) -> 24117.79
...

Sheet 1С Колеровка
A1: Склад | B1: Итого
A2: Номенклатура | B2: Сумма
A3: (СКЛАД Журналистов) | B3: 2735892.4
A4: 2671 TVT | B4: 38125.35
A5: 3466 TVT | B5: 1649
A6: 4844 TVT | B6: 5081.3
A7: 5051 TVT | B7: 191038.9
A8: 5061 TVT | B8: 3857.3
A9: 5063 TVT | B9: 13305
A10: 5072 TVT | B10: 15584
A11: 5076 TVT | B11: 2541
A12: 5077 TVT | B12: 665
A13: 531X | B13: 33596
A14: CAPA Ginster 60 | B14: 989
... A145: Итого | B145: 3424616.6

Sheet Бонусы-Группы
A1: Товарные группы и процент бонуса: | B1: Названия из 1С
A3: Тиккурила Коутингс | B3: Тиккурила Коутингс | C3: 0.04
A4: Тиккурила Пейнтс | B4: Тиккурила Пейнтс | C4: 0.025 | E4: Анза-4%
A5: Финнколор и серия Евро | B5: Финнколор | C5: 0.02 | E5: Сента и стеклообразно выведены из ассортимента
A6: Пирилакс | B6: Пирилакс | C6: 0.02 | E6: Цвета новые и загруженные а так же пигмент 2-%
A7: Пена, герметики | B7: Общестроительные материалы | C7: 0.02
A8: Текс | B8: Текс | C8: 0.01
A9: Инструмент Харрис | B9: Харрис | C9: 0.05
A10: Инструмент Китай | B10: Ручные инструменты | C10: 0.03
A11: Анза | B11: Анза | C11: 0.04
A12: Пигмент | B12: Пигмент | C12: 0.02
A13: Цвета загруженные | B13: Цвета НОВЫЕ | C13: 0.02
A14: Цвета новые | B14: Цвета загруженные | C14: 0.02
A15: Сента | B15: Сента | C15: 0.01
A16: Стеклообои | B16: Стеклообои | C16: 0.01
